BEGIN:VCALENDAR
VERSION:2.0
PRODID:-//St. Mary with St. Leonard - ECPv6.15.20//NONSGML v1.0//EN
CALSCALE:GREGORIAN
METHOD:PUBLISH
X-ORIGINAL-URL:https://stmarybroomfield.org
X-WR-CALDESC:Events for St. Mary with St. Leonard
REFRESH-INTERVAL;VALUE=DURATION:PT1H
X-Robots-Tag:noindex
X-PUBLISHED-TTL:PT1H
BEGIN:VTIMEZONE
TZID:Europe/London
BEGIN:DAYLIGHT
TZOFFSETFROM:+0000
TZOFFSETTO:+0100
TZNAME:BST
DTSTART:20230326T010000
END:DAYLIGHT
BEGIN:STANDARD
TZOFFSETFROM:+0100
TZOFFSETTO:+0000
TZNAME:GMT
DTSTART:20231029T010000
END:STANDARD
BEGIN:DAYLIGHT
TZOFFSETFROM:+0000
TZOFFSETTO:+0100
TZNAME:BST
DTSTART:20240331T010000
END:DAYLIGHT
BEGIN:STANDARD
TZOFFSETFROM:+0100
TZOFFSETTO:+0000
TZNAME:GMT
DTSTART:20241027T010000
END:STANDARD
BEGIN:DAYLIGHT
TZOFFSETFROM:+0000
TZOFFSETTO:+0100
TZNAME:BST
DTSTART:20250330T010000
END:DAYLIGHT
BEGIN:STANDARD
TZOFFSETFROM:+0100
TZOFFSETTO:+0000
TZNAME:GMT
DTSTART:20251026T010000
END:STANDARD
END:VTIMEZONE
BEGIN:VEVENT
DTSTART;TZID=Europe/London:20241117T080000
DTEND;TZID=Europe/London:20241117T083000
DTSTAMP:20260421T124520
CREATED:20241030T082417Z
LAST-MODIFIED:20241030T082417Z
UID:3915-1731830400-1731832200@stmarybroomfield.org
SUMMARY:Eucharist
DESCRIPTION:Eucharist starting at 8am
URL:https://stmarybroomfield.org/event/eucharist/
LOCATION:St Mary’s Church\, St Mary's Broomfield Parish Church\, Broomfield\, Essex\, CM1 7BD\, United Kingdom
END:VEVENT
BEGIN:VEVENT
DTSTART;TZID=Europe/London:20241117T093000
DTEND;TZID=Europe/London:20241117T103000
DTSTAMP:20260421T124520
CREATED:20241030T082553Z
LAST-MODIFIED:20241030T082553Z
UID:3917-1731835800-1731839400@stmarybroomfield.org
SUMMARY:Family Service
DESCRIPTION:Family Service starting at 9.30am followed by refreshments in St Leonard’s Hall
URL:https://stmarybroomfield.org/event/family-service-17/
LOCATION:St Mary’s Church\, St Mary's Broomfield Parish Church\, Broomfield\, Essex\, CM1 7BD\, United Kingdom
END:VEVENT
END:VCALENDAR