BEGIN:VCALENDAR
VERSION:2.0
PRODID:-//St. Mary with St. Leonard - ECPv6.15.20//NONSGML v1.0//EN
CALSCALE:GREGORIAN
METHOD:PUBLISH
X-ORIGINAL-URL:https://stmarybroomfield.org
X-WR-CALDESC:Events for St. Mary with St. Leonard
REFRESH-INTERVAL;VALUE=DURATION:PT1H
X-Robots-Tag:noindex
X-PUBLISHED-TTL:PT1H
BEGIN:VTIMEZONE
TZID:Europe/London
BEGIN:DAYLIGHT
TZOFFSETFROM:+0000
TZOFFSETTO:+0100
TZNAME:BST
DTSTART:20240331T010000
END:DAYLIGHT
BEGIN:STANDARD
TZOFFSETFROM:+0100
TZOFFSETTO:+0000
TZNAME:GMT
DTSTART:20241027T010000
END:STANDARD
BEGIN:DAYLIGHT
TZOFFSETFROM:+0000
TZOFFSETTO:+0100
TZNAME:BST
DTSTART:20250330T010000
END:DAYLIGHT
BEGIN:STANDARD
TZOFFSETFROM:+0100
TZOFFSETTO:+0000
TZNAME:GMT
DTSTART:20251026T010000
END:STANDARD
BEGIN:DAYLIGHT
TZOFFSETFROM:+0000
TZOFFSETTO:+0100
TZNAME:BST
DTSTART:20260329T010000
END:DAYLIGHT
BEGIN:STANDARD
TZOFFSETFROM:+0100
TZOFFSETTO:+0000
TZNAME:GMT
DTSTART:20261025T010000
END:STANDARD
END:VTIMEZONE
BEGIN:VEVENT
DTSTART;TZID=Europe/London:20250105T093000
DTEND;TZID=Europe/London:20250105T103000
DTSTAMP:20260421T095558
CREATED:20241230T092418Z
LAST-MODIFIED:20241230T092418Z
UID:4075-1736069400-1736073000@stmarybroomfield.org
SUMMARY:Parish Eucharist w Lego
DESCRIPTION:Parish Eucharist with Lego Church starting at 9.30am followed by Refreshments in St Leonard’s Hall
URL:https://stmarybroomfield.org/event/parish-eucharist-w-lego/
LOCATION:St Mary’s Church\, St Mary's Broomfield Parish Church\, Broomfield\, Essex\, CM1 7BD\, United Kingdom
END:VEVENT
BEGIN:VEVENT
DTSTART;TZID=Europe/London:20250105T173000
DTEND;TZID=Europe/London:20250105T183000
DTSTAMP:20260421T095558
CREATED:20241230T092603Z
LAST-MODIFIED:20241230T092603Z
UID:4077-1736098200-1736101800@stmarybroomfield.org
SUMMARY:Evening Prayer
DESCRIPTION:Evening Prayer in Church starting at 5.30pm
URL:https://stmarybroomfield.org/event/evening-prayer-19/
LOCATION:St Mary’s Church\, St Mary's Broomfield Parish Church\, Broomfield\, Essex\, CM1 7BD\, United Kingdom
END:VEVENT
END:VCALENDAR