BEGIN:VCALENDAR
VERSION:2.0
PRODID:-//St. Mary with St. Leonard - ECPv6.15.20//NONSGML v1.0//EN
CALSCALE:GREGORIAN
METHOD:PUBLISH
X-WR-CALNAME:St. Mary with St. Leonard
X-ORIGINAL-URL:https://stmarybroomfield.org
X-WR-CALDESC:Events for St. Mary with St. Leonard
REFRESH-INTERVAL;VALUE=DURATION:PT1H
X-Robots-Tag:noindex
X-PUBLISHED-TTL:PT1H
BEGIN:VTIMEZONE
TZID:Europe/London
BEGIN:DAYLIGHT
TZOFFSETFROM:+0000
TZOFFSETTO:+0100
TZNAME:BST
DTSTART:20240331T010000
END:DAYLIGHT
BEGIN:STANDARD
TZOFFSETFROM:+0100
TZOFFSETTO:+0000
TZNAME:GMT
DTSTART:20241027T010000
END:STANDARD
BEGIN:DAYLIGHT
TZOFFSETFROM:+0000
TZOFFSETTO:+0100
TZNAME:BST
DTSTART:20250330T010000
END:DAYLIGHT
BEGIN:STANDARD
TZOFFSETFROM:+0100
TZOFFSETTO:+0000
TZNAME:GMT
DTSTART:20251026T010000
END:STANDARD
BEGIN:DAYLIGHT
TZOFFSETFROM:+0000
TZOFFSETTO:+0100
TZNAME:BST
DTSTART:20260329T010000
END:DAYLIGHT
BEGIN:STANDARD
TZOFFSETFROM:+0100
TZOFFSETTO:+0000
TZNAME:GMT
DTSTART:20261025T010000
END:STANDARD
END:VTIMEZONE
BEGIN:VEVENT
DTSTART;TZID=Europe/London:20250115T103000
DTEND;TZID=Europe/London:20250115T113000
DTSTAMP:20260421T062901
CREATED:20241230T093001Z
LAST-MODIFIED:20241230T093001Z
UID:4081-1736937000-1736940600@stmarybroomfield.org
SUMMARY:Mid-week Eucharist
DESCRIPTION:Mid-week Eucharist starting at 10.30am followed by refreshments in St Leonard’s Hall
URL:https://stmarybroomfield.org/event/mid-week-eucharist-18/
LOCATION:St Mary’s Church\, St Mary's Broomfield Parish Church\, Broomfield\, Essex\, CM1 7BD\, United Kingdom
END:VEVENT
BEGIN:VEVENT
DTSTART;TZID=Europe/London:20250115T133000
DTEND;TZID=Europe/London:20250115T143000
DTSTAMP:20260421T062901
CREATED:20250105T115739Z
LAST-MODIFIED:20250105T115739Z
UID:4140-1736947800-1736951400@stmarybroomfield.org
SUMMARY:Baffled by the Bible:
DESCRIPTION:Baffled by the Bible: meet at 68\, Longshots\, Broomfield starting at 1.45
URL:https://stmarybroomfield.org/event/baffled-by-the-bible-76/
LOCATION:Essex
END:VEVENT
BEGIN:VEVENT
DTSTART;TZID=Europe/London:20250115T193000
DTEND;TZID=Europe/London:20250115T210000
DTSTAMP:20260421T062901
CREATED:20241230T135644Z
LAST-MODIFIED:20241230T135644Z
UID:4117-1736969400-1736974800@stmarybroomfield.org
SUMMARY:Bell Ringing Practice
DESCRIPTION:Bell Ringing Practice in the Tower 7.45pm-9.00pm
URL:https://stmarybroomfield.org/event/bell-ringing-practice-53/
LOCATION:St Mary’s Church\, St Mary's Broomfield Parish Church\, Broomfield\, Essex\, CM1 7BD\, United Kingdom
END:VEVENT
END:VCALENDAR