BEGIN:VCALENDAR
VERSION:2.0
PRODID:-//St. Mary with St. Leonard - ECPv6.15.20//NONSGML v1.0//EN
CALSCALE:GREGORIAN
METHOD:PUBLISH
X-ORIGINAL-URL:https://stmarybroomfield.org
X-WR-CALDESC:Events for St. Mary with St. Leonard
REFRESH-INTERVAL;VALUE=DURATION:PT1H
X-Robots-Tag:noindex
X-PUBLISHED-TTL:PT1H
BEGIN:VTIMEZONE
TZID:Europe/London
BEGIN:DAYLIGHT
TZOFFSETFROM:+0000
TZOFFSETTO:+0100
TZNAME:BST
DTSTART:20240331T010000
END:DAYLIGHT
BEGIN:STANDARD
TZOFFSETFROM:+0100
TZOFFSETTO:+0000
TZNAME:GMT
DTSTART:20241027T010000
END:STANDARD
BEGIN:DAYLIGHT
TZOFFSETFROM:+0000
TZOFFSETTO:+0100
TZNAME:BST
DTSTART:20250330T010000
END:DAYLIGHT
BEGIN:STANDARD
TZOFFSETFROM:+0100
TZOFFSETTO:+0000
TZNAME:GMT
DTSTART:20251026T010000
END:STANDARD
BEGIN:DAYLIGHT
TZOFFSETFROM:+0000
TZOFFSETTO:+0100
TZNAME:BST
DTSTART:20260329T010000
END:DAYLIGHT
BEGIN:STANDARD
TZOFFSETFROM:+0100
TZOFFSETTO:+0000
TZNAME:GMT
DTSTART:20261025T010000
END:STANDARD
END:VTIMEZONE
BEGIN:VEVENT
DTSTART;TZID=Europe/London:20250205T134500
DTEND;TZID=Europe/London:20250205T134500
DTSTAMP:20260421T044048
CREATED:20250128T120747Z
LAST-MODIFIED:20250128T140720Z
UID:4221-1738763100-1738763100@stmarybroomfield.org
SUMMARY:Baffled by the Bible
DESCRIPTION:Baffled by the Bible: meet at 68\, Longshots\, Broomfield starting at 1.45pm
URL:https://stmarybroomfield.org/event/baffled-by-the-bible-79/
LOCATION:Essex
END:VEVENT
BEGIN:VEVENT
DTSTART;TZID=Europe/London:20250205T194500
DTEND;TZID=Europe/London:20250205T210000
DTSTAMP:20260421T044048
CREATED:20250128T121125Z
LAST-MODIFIED:20250128T121125Z
UID:4224-1738784700-1738789200@stmarybroomfield.org
SUMMARY:Bell Ringing Practice
DESCRIPTION:Bell Ringing Practice
URL:https://stmarybroomfield.org/event/bell-ringing-practice-57/
LOCATION:St Martin’s Little Waltham\, Brook Hill\, Little Waltham\, CM3 3LJ
END:VEVENT
END:VCALENDAR