BEGIN:VCALENDAR
VERSION:2.0
PRODID:-//St. Mary with St. Leonard - ECPv6.15.20//NONSGML v1.0//EN
CALSCALE:GREGORIAN
METHOD:PUBLISH
X-WR-CALNAME:St. Mary with St. Leonard
X-ORIGINAL-URL:https://stmarybroomfield.org
X-WR-CALDESC:Events for St. Mary with St. Leonard
REFRESH-INTERVAL;VALUE=DURATION:PT1H
X-Robots-Tag:noindex
X-PUBLISHED-TTL:PT1H
BEGIN:VTIMEZONE
TZID:Europe/London
BEGIN:DAYLIGHT
TZOFFSETFROM:+0000
TZOFFSETTO:+0100
TZNAME:BST
DTSTART:20240331T010000
END:DAYLIGHT
BEGIN:STANDARD
TZOFFSETFROM:+0100
TZOFFSETTO:+0000
TZNAME:GMT
DTSTART:20241027T010000
END:STANDARD
BEGIN:DAYLIGHT
TZOFFSETFROM:+0000
TZOFFSETTO:+0100
TZNAME:BST
DTSTART:20250330T010000
END:DAYLIGHT
BEGIN:STANDARD
TZOFFSETFROM:+0100
TZOFFSETTO:+0000
TZNAME:GMT
DTSTART:20251026T010000
END:STANDARD
BEGIN:DAYLIGHT
TZOFFSETFROM:+0000
TZOFFSETTO:+0100
TZNAME:BST
DTSTART:20260329T010000
END:DAYLIGHT
BEGIN:STANDARD
TZOFFSETFROM:+0100
TZOFFSETTO:+0000
TZNAME:GMT
DTSTART:20261025T010000
END:STANDARD
END:VTIMEZONE
BEGIN:VEVENT
DTSTART;TZID=Europe/London:20250219T134500
DTEND;TZID=Europe/London:20250219T134500
DTSTAMP:20260421T044035
CREATED:20250128T124205Z
LAST-MODIFIED:20250128T124205Z
UID:4252-1739972700-1739972700@stmarybroomfield.org
SUMMARY:Baffled By The Bible
DESCRIPTION:Baffled By The Bible – meet at 68 Longshots Broomfield @1.45pm
URL:https://stmarybroomfield.org/event/baffled-by-the-bible-81/
LOCATION:Essex
END:VEVENT
BEGIN:VEVENT
DTSTART;TZID=Europe/London:20250219T194500
DTEND;TZID=Europe/London:20250219T210000
DTSTAMP:20260421T044035
CREATED:20241230T135738Z
LAST-MODIFIED:20250128T141422Z
UID:4119-1739994300-1739998800@stmarybroomfield.org
SUMMARY:Bell Ringing Practice
DESCRIPTION:Bell Ringing Practice in the Tower 7.45pm-9.00pm
URL:https://stmarybroomfield.org/event/bell-ringing-practice-54/
LOCATION:St Mary’s Church\, St Mary's Broomfield Parish Church\, Broomfield\, Essex\, CM1 7BD\, United Kingdom
END:VEVENT
END:VCALENDAR