BEGIN:VCALENDAR
VERSION:2.0
PRODID:-//St. Mary with St. Leonard - ECPv6.15.20//NONSGML v1.0//EN
CALSCALE:GREGORIAN
METHOD:PUBLISH
X-ORIGINAL-URL:https://stmarybroomfield.org
X-WR-CALDESC:Events for St. Mary with St. Leonard
REFRESH-INTERVAL;VALUE=DURATION:PT1H
X-Robots-Tag:noindex
X-PUBLISHED-TTL:PT1H
BEGIN:VTIMEZONE
TZID:Europe/London
BEGIN:DAYLIGHT
TZOFFSETFROM:+0000
TZOFFSETTO:+0100
TZNAME:BST
DTSTART:20240331T010000
END:DAYLIGHT
BEGIN:STANDARD
TZOFFSETFROM:+0100
TZOFFSETTO:+0000
TZNAME:GMT
DTSTART:20241027T010000
END:STANDARD
BEGIN:DAYLIGHT
TZOFFSETFROM:+0000
TZOFFSETTO:+0100
TZNAME:BST
DTSTART:20250330T010000
END:DAYLIGHT
BEGIN:STANDARD
TZOFFSETFROM:+0100
TZOFFSETTO:+0000
TZNAME:GMT
DTSTART:20251026T010000
END:STANDARD
BEGIN:DAYLIGHT
TZOFFSETFROM:+0000
TZOFFSETTO:+0100
TZNAME:BST
DTSTART:20260329T010000
END:DAYLIGHT
BEGIN:STANDARD
TZOFFSETFROM:+0100
TZOFFSETTO:+0000
TZNAME:GMT
DTSTART:20261025T010000
END:STANDARD
END:VTIMEZONE
BEGIN:VEVENT
DTSTART;TZID=Europe/London:20250314T140000
DTEND;TZID=Europe/London:20250314T140000
DTSTAMP:20260421T012712
CREATED:20250224T172230Z
LAST-MODIFIED:20250224T172230Z
UID:4413-1741960800-1741960800@stmarybroomfield.org
SUMMARY:Pastoral Care Meeting
DESCRIPTION:Pastoral Care Meeting in Committee Room
URL:https://stmarybroomfield.org/event/pastoral-care-meeting/
LOCATION:Committee room\, St Marys Church\, Broomfield\, Essex\, CM1 7BD\, United Kingdom
END:VEVENT
BEGIN:VEVENT
DTSTART;TZID=Europe/London:20250314T161500
DTEND;TZID=Europe/London:20250314T161500
DTSTAMP:20260421T012712
CREATED:20250224T172340Z
LAST-MODIFIED:20250224T172340Z
UID:4415-1741968900-1741968900@stmarybroomfield.org
SUMMARY:Choir Practice
DESCRIPTION:Choir Practice in St Leonard’s Hall
URL:https://stmarybroomfield.org/event/choir-practice-52/
LOCATION:St Leonard’s Hall\, St Leonard's Hall\, Broomfield\, Essex\, CM1 7BD\, United Kingdom
END:VEVENT
END:VCALENDAR