BEGIN:VCALENDAR
VERSION:2.0
PRODID:-//St. Mary with St. Leonard - ECPv6.15.20//NONSGML v1.0//EN
CALSCALE:GREGORIAN
METHOD:PUBLISH
X-WR-CALNAME:St. Mary with St. Leonard
X-ORIGINAL-URL:https://stmarybroomfield.org
X-WR-CALDESC:Events for St. Mary with St. Leonard
REFRESH-INTERVAL;VALUE=DURATION:PT1H
X-Robots-Tag:noindex
X-PUBLISHED-TTL:PT1H
BEGIN:VTIMEZONE
TZID:Europe/London
BEGIN:DAYLIGHT
TZOFFSETFROM:+0000
TZOFFSETTO:+0100
TZNAME:BST
DTSTART:20240331T010000
END:DAYLIGHT
BEGIN:STANDARD
TZOFFSETFROM:+0100
TZOFFSETTO:+0000
TZNAME:GMT
DTSTART:20241027T010000
END:STANDARD
BEGIN:DAYLIGHT
TZOFFSETFROM:+0000
TZOFFSETTO:+0100
TZNAME:BST
DTSTART:20250330T010000
END:DAYLIGHT
BEGIN:STANDARD
TZOFFSETFROM:+0100
TZOFFSETTO:+0000
TZNAME:GMT
DTSTART:20251026T010000
END:STANDARD
BEGIN:DAYLIGHT
TZOFFSETFROM:+0000
TZOFFSETTO:+0100
TZNAME:BST
DTSTART:20260329T010000
END:DAYLIGHT
BEGIN:STANDARD
TZOFFSETFROM:+0100
TZOFFSETTO:+0000
TZNAME:GMT
DTSTART:20261025T010000
END:STANDARD
END:VTIMEZONE
BEGIN:VEVENT
DTSTART;TZID=Europe/London:20250316T080000
DTEND;TZID=Europe/London:20250316T080000
DTSTAMP:20260421T012146
CREATED:20250224T172505Z
LAST-MODIFIED:20250224T172505Z
UID:4417-1742112000-1742112000@stmarybroomfield.org
SUMMARY:BCP Holy Communion
DESCRIPTION:BCP Holy Communion
URL:https://stmarybroomfield.org/event/bcp-holy-communion-27/
LOCATION:St Mary’s Church\, St Mary's Broomfield Parish Church\, Broomfield\, Essex\, CM1 7BD\, United Kingdom
END:VEVENT
BEGIN:VEVENT
DTSTART;TZID=Europe/London:20250316T093000
DTEND;TZID=Europe/London:20250316T093000
DTSTAMP:20260421T012146
CREATED:20250224T172556Z
LAST-MODIFIED:20250224T172556Z
UID:4419-1742117400-1742117400@stmarybroomfield.org
SUMMARY:Morning Worship
DESCRIPTION:Morning Worship
URL:https://stmarybroomfield.org/event/morning-worship/
LOCATION:St Mary’s Church\, St Mary's Broomfield Parish Church\, Broomfield\, Essex\, CM1 7BD\, United Kingdom
END:VEVENT
BEGIN:VEVENT
DTSTART;TZID=Europe/London:20250316T110000
DTEND;TZID=Europe/London:20250316T110000
DTSTAMP:20260421T012146
CREATED:20250224T172655Z
LAST-MODIFIED:20250224T172655Z
UID:4421-1742122800-1742122800@stmarybroomfield.org
SUMMARY:Vestry Meeting and APCM
DESCRIPTION:Vestry Meeting and APCM in St Leonard’s Hall
URL:https://stmarybroomfield.org/event/vestry-meeting-and-apcm/
LOCATION:St Leonard’s Hall\, St Leonard's Hall\, Broomfield\, Essex\, CM1 7BD\, United Kingdom
END:VEVENT
END:VCALENDAR