BEGIN:VCALENDAR
VERSION:2.0
PRODID:-//St. Mary with St. Leonard - ECPv6.15.20//NONSGML v1.0//EN
CALSCALE:GREGORIAN
METHOD:PUBLISH
X-ORIGINAL-URL:https://stmarybroomfield.org
X-WR-CALDESC:Events for St. Mary with St. Leonard
REFRESH-INTERVAL;VALUE=DURATION:PT1H
X-Robots-Tag:noindex
X-PUBLISHED-TTL:PT1H
BEGIN:VTIMEZONE
TZID:Europe/London
BEGIN:DAYLIGHT
TZOFFSETFROM:+0000
TZOFFSETTO:+0100
TZNAME:BST
DTSTART:20240331T010000
END:DAYLIGHT
BEGIN:STANDARD
TZOFFSETFROM:+0100
TZOFFSETTO:+0000
TZNAME:GMT
DTSTART:20241027T010000
END:STANDARD
BEGIN:DAYLIGHT
TZOFFSETFROM:+0000
TZOFFSETTO:+0100
TZNAME:BST
DTSTART:20250330T010000
END:DAYLIGHT
BEGIN:STANDARD
TZOFFSETFROM:+0100
TZOFFSETTO:+0000
TZNAME:GMT
DTSTART:20251026T010000
END:STANDARD
BEGIN:DAYLIGHT
TZOFFSETFROM:+0000
TZOFFSETTO:+0100
TZNAME:BST
DTSTART:20260329T010000
END:DAYLIGHT
BEGIN:STANDARD
TZOFFSETFROM:+0100
TZOFFSETTO:+0000
TZNAME:GMT
DTSTART:20261025T010000
END:STANDARD
END:VTIMEZONE
BEGIN:VEVENT
DTSTART;TZID=Europe/London:20250319T100000
DTEND;TZID=Europe/London:20250319T100000
DTSTAMP:20260421T025912
CREATED:20250224T173228Z
LAST-MODIFIED:20250224T173228Z
UID:4430-1742378400-1742378400@stmarybroomfield.org
SUMMARY:Wednesday Morning Bible Study
DESCRIPTION:Wednesday Morning Bible Study at 2a Hearsall Avenue
URL:https://stmarybroomfield.org/event/wednesday-morning-bible-study/
LOCATION:2a Hearsall Avenue\, CM1 7DD
END:VEVENT
BEGIN:VEVENT
DTSTART;TZID=Europe/London:20250319T134500
DTEND;TZID=Europe/London:20250319T134500
DTSTAMP:20260421T025912
CREATED:20250224T173327Z
LAST-MODIFIED:20250224T173327Z
UID:4432-1742391900-1742391900@stmarybroomfield.org
SUMMARY:Baffled By The Bible
DESCRIPTION:Baffled By The Bible – 68 Longshots Broomfield
URL:https://stmarybroomfield.org/event/baffled-by-the-bible-85/
LOCATION:Essex
END:VEVENT
BEGIN:VEVENT
DTSTART;TZID=Europe/London:20250319T194500
DTEND;TZID=Europe/London:20250319T210000
DTSTAMP:20260421T025912
CREATED:20250224T173427Z
LAST-MODIFIED:20250224T173427Z
UID:4434-1742413500-1742418000@stmarybroomfield.org
SUMMARY:Bellringing Practice
DESCRIPTION:Bellringing Practice
URL:https://stmarybroomfield.org/event/bellringing-practice-6/
LOCATION:St Mary’s Church\, St Mary's Broomfield Parish Church\, Broomfield\, Essex\, CM1 7BD\, United Kingdom
END:VEVENT
END:VCALENDAR