BEGIN:VCALENDAR
VERSION:2.0
PRODID:-//St. Mary with St. Leonard - ECPv6.15.20//NONSGML v1.0//EN
CALSCALE:GREGORIAN
METHOD:PUBLISH
X-ORIGINAL-URL:https://stmarybroomfield.org
X-WR-CALDESC:Events for St. Mary with St. Leonard
REFRESH-INTERVAL;VALUE=DURATION:PT1H
X-Robots-Tag:noindex
X-PUBLISHED-TTL:PT1H
BEGIN:VTIMEZONE
TZID:Europe/London
BEGIN:DAYLIGHT
TZOFFSETFROM:+0000
TZOFFSETTO:+0100
TZNAME:BST
DTSTART:20240331T010000
END:DAYLIGHT
BEGIN:STANDARD
TZOFFSETFROM:+0100
TZOFFSETTO:+0000
TZNAME:GMT
DTSTART:20241027T010000
END:STANDARD
BEGIN:DAYLIGHT
TZOFFSETFROM:+0000
TZOFFSETTO:+0100
TZNAME:BST
DTSTART:20250330T010000
END:DAYLIGHT
BEGIN:STANDARD
TZOFFSETFROM:+0100
TZOFFSETTO:+0000
TZNAME:GMT
DTSTART:20251026T010000
END:STANDARD
BEGIN:DAYLIGHT
TZOFFSETFROM:+0000
TZOFFSETTO:+0100
TZNAME:BST
DTSTART:20260329T010000
END:DAYLIGHT
BEGIN:STANDARD
TZOFFSETFROM:+0100
TZOFFSETTO:+0000
TZNAME:GMT
DTSTART:20261025T010000
END:STANDARD
END:VTIMEZONE
BEGIN:VEVENT
DTSTART;TZID=Europe/London:20250409T103000
DTEND;TZID=Europe/London:20250409T103000
DTSTAMP:20260420T234343
CREATED:20250419T101919Z
LAST-MODIFIED:20250419T101919Z
UID:4714-1744194600-1744194600@stmarybroomfield.org
SUMMARY:Mid-week Eucharist
DESCRIPTION:Followed by Coffee Morning in St Leonard’s Hall
URL:https://stmarybroomfield.org/event/mid-week-eucharist-21/
LOCATION:St Mary’s Church\, St Mary's Broomfield Parish Church\, Broomfield\, Essex\, CM1 7BD\, United Kingdom
END:VEVENT
BEGIN:VEVENT
DTSTART;TZID=Europe/London:20250409T134500
DTEND;TZID=Europe/London:20250409T134500
DTSTAMP:20260420T234343
CREATED:20250419T101919Z
LAST-MODIFIED:20250419T101919Z
UID:4715-1744206300-1744206300@stmarybroomfield.org
SUMMARY:Baffled by the Bible
DESCRIPTION:
URL:https://stmarybroomfield.org/event/baffled-by-the-bible-94/
LOCATION:68 Longshots Broomfield
END:VEVENT
BEGIN:VEVENT
DTSTART;TZID=Europe/London:20250409T194500
DTEND;TZID=Europe/London:20250409T194500
DTSTAMP:20260420T234343
CREATED:20250419T101919Z
LAST-MODIFIED:20250419T101919Z
UID:4716-1744227900-1744227900@stmarybroomfield.org
SUMMARY:Bellringing Practice
DESCRIPTION:
URL:https://stmarybroomfield.org/event/bellringing-practice-15/
LOCATION:St Mary’s Church\, St Mary's Broomfield Parish Church\, Broomfield\, Essex\, CM1 7BD\, United Kingdom
END:VEVENT
END:VCALENDAR