BEGIN:VCALENDAR
VERSION:2.0
PRODID:-//St. Mary with St. Leonard - ECPv6.15.20//NONSGML v1.0//EN
CALSCALE:GREGORIAN
METHOD:PUBLISH
X-ORIGINAL-URL:https://stmarybroomfield.org
X-WR-CALDESC:Events for St. Mary with St. Leonard
REFRESH-INTERVAL;VALUE=DURATION:PT1H
X-Robots-Tag:noindex
X-PUBLISHED-TTL:PT1H
BEGIN:VTIMEZONE
TZID:Europe/London
BEGIN:DAYLIGHT
TZOFFSETFROM:+0000
TZOFFSETTO:+0100
TZNAME:BST
DTSTART:20240331T010000
END:DAYLIGHT
BEGIN:STANDARD
TZOFFSETFROM:+0100
TZOFFSETTO:+0000
TZNAME:GMT
DTSTART:20241027T010000
END:STANDARD
BEGIN:DAYLIGHT
TZOFFSETFROM:+0000
TZOFFSETTO:+0100
TZNAME:BST
DTSTART:20250330T010000
END:DAYLIGHT
BEGIN:STANDARD
TZOFFSETFROM:+0100
TZOFFSETTO:+0000
TZNAME:GMT
DTSTART:20251026T010000
END:STANDARD
BEGIN:DAYLIGHT
TZOFFSETFROM:+0000
TZOFFSETTO:+0100
TZNAME:BST
DTSTART:20260329T010000
END:DAYLIGHT
BEGIN:STANDARD
TZOFFSETFROM:+0100
TZOFFSETTO:+0000
TZNAME:GMT
DTSTART:20261025T010000
END:STANDARD
END:VTIMEZONE
BEGIN:VEVENT
DTSTART;TZID=Europe/London:20250413T080000
DTEND;TZID=Europe/London:20250413T080000
DTSTAMP:20260420T234348
CREATED:20250419T101919Z
LAST-MODIFIED:20250419T101919Z
UID:4719-1744531200-1744531200@stmarybroomfield.org
SUMMARY:Palm Sunday - BCP Holy Communion
DESCRIPTION:
URL:https://stmarybroomfield.org/event/palm-sunday-bcp-holy-communion/
LOCATION:St Mary’s Church\, St Mary's Broomfield Parish Church\, Broomfield\, Essex\, CM1 7BD\, United Kingdom
END:VEVENT
BEGIN:VEVENT
DTSTART;TZID=Europe/London:20250413T093000
DTEND;TZID=Europe/London:20250413T093000
DTSTAMP:20260420T234348
CREATED:20250419T101919Z
LAST-MODIFIED:20250419T101919Z
UID:4720-1744536600-1744536600@stmarybroomfield.org
SUMMARY:Palm Sunday - Processional Family Service with Eucharist and Passion Drama
DESCRIPTION:Followed by refreshmens ib St Leonard’s Hall
URL:https://stmarybroomfield.org/event/palm-sunday-processional-family-service-with-eucharist-and-passion-drama/
LOCATION:St Mary’s Church\, St Mary's Broomfield Parish Church\, Broomfield\, Essex\, CM1 7BD\, United Kingdom
END:VEVENT
END:VCALENDAR