BEGIN:VCALENDAR
VERSION:2.0
PRODID:-//St. Mary with St. Leonard - ECPv6.15.20//NONSGML v1.0//EN
CALSCALE:GREGORIAN
METHOD:PUBLISH
X-ORIGINAL-URL:https://stmarybroomfield.org
X-WR-CALDESC:Events for St. Mary with St. Leonard
REFRESH-INTERVAL;VALUE=DURATION:PT1H
X-Robots-Tag:noindex
X-PUBLISHED-TTL:PT1H
BEGIN:VTIMEZONE
TZID:Europe/London
BEGIN:DAYLIGHT
TZOFFSETFROM:+0000
TZOFFSETTO:+0100
TZNAME:BST
DTSTART:20240331T010000
END:DAYLIGHT
BEGIN:STANDARD
TZOFFSETFROM:+0100
TZOFFSETTO:+0000
TZNAME:GMT
DTSTART:20241027T010000
END:STANDARD
BEGIN:DAYLIGHT
TZOFFSETFROM:+0000
TZOFFSETTO:+0100
TZNAME:BST
DTSTART:20250330T010000
END:DAYLIGHT
BEGIN:STANDARD
TZOFFSETFROM:+0100
TZOFFSETTO:+0000
TZNAME:GMT
DTSTART:20251026T010000
END:STANDARD
BEGIN:DAYLIGHT
TZOFFSETFROM:+0000
TZOFFSETTO:+0100
TZNAME:BST
DTSTART:20260329T010000
END:DAYLIGHT
BEGIN:STANDARD
TZOFFSETFROM:+0100
TZOFFSETTO:+0000
TZNAME:GMT
DTSTART:20261025T010000
END:STANDARD
END:VTIMEZONE
BEGIN:VEVENT
DTSTART;TZID=Europe/London:20250430T100000
DTEND;TZID=Europe/London:20250430T100000
DTSTAMP:20260420T220222
CREATED:20250418T194120Z
LAST-MODIFIED:20250418T194120Z
UID:4654-1746007200-1746007200@stmarybroomfield.org
SUMMARY:Bible Study Group
DESCRIPTION:
URL:https://stmarybroomfield.org/event/bible-study-group-2/
LOCATION:2a Hearsall Avenue\, CM1 7DD
END:VEVENT
BEGIN:VEVENT
DTSTART;TZID=Europe/London:20250430T134500
DTEND;TZID=Europe/London:20250430T134500
DTSTAMP:20260420T220222
CREATED:20250418T194225Z
LAST-MODIFIED:20250418T194225Z
UID:4656-1746020700-1746020700@stmarybroomfield.org
SUMMARY:Baffled by the Bible
DESCRIPTION:
URL:https://stmarybroomfield.org/event/baffled-by-the-bible-90/
LOCATION:68 Longshots Broomfield
END:VEVENT
BEGIN:VEVENT
DTSTART;TZID=Europe/London:20250430T194500
DTEND;TZID=Europe/London:20250430T194500
DTSTAMP:20260420T220222
CREATED:20250418T194341Z
LAST-MODIFIED:20250418T194341Z
UID:4658-1746042300-1746042300@stmarybroomfield.org
SUMMARY:Bellringing Practice
DESCRIPTION:
URL:https://stmarybroomfield.org/event/bellringing-practice-12/
LOCATION:St Mary’s Church\, St Mary's Broomfield Parish Church\, Broomfield\, Essex\, CM1 7BD\, United Kingdom
END:VEVENT
END:VCALENDAR