BEGIN:VCALENDAR
VERSION:2.0
PRODID:-//St. Mary with St. Leonard - ECPv6.15.20//NONSGML v1.0//EN
CALSCALE:GREGORIAN
METHOD:PUBLISH
X-ORIGINAL-URL:https://stmarybroomfield.org
X-WR-CALDESC:Events for St. Mary with St. Leonard
REFRESH-INTERVAL;VALUE=DURATION:PT1H
X-Robots-Tag:noindex
X-PUBLISHED-TTL:PT1H
BEGIN:VTIMEZONE
TZID:Europe/London
BEGIN:DAYLIGHT
TZOFFSETFROM:+0000
TZOFFSETTO:+0100
TZNAME:BST
DTSTART:20240331T010000
END:DAYLIGHT
BEGIN:STANDARD
TZOFFSETFROM:+0100
TZOFFSETTO:+0000
TZNAME:GMT
DTSTART:20241027T010000
END:STANDARD
BEGIN:DAYLIGHT
TZOFFSETFROM:+0000
TZOFFSETTO:+0100
TZNAME:BST
DTSTART:20250330T010000
END:DAYLIGHT
BEGIN:STANDARD
TZOFFSETFROM:+0100
TZOFFSETTO:+0000
TZNAME:GMT
DTSTART:20251026T010000
END:STANDARD
BEGIN:DAYLIGHT
TZOFFSETFROM:+0000
TZOFFSETTO:+0100
TZNAME:BST
DTSTART:20260329T010000
END:DAYLIGHT
BEGIN:STANDARD
TZOFFSETFROM:+0100
TZOFFSETTO:+0000
TZNAME:GMT
DTSTART:20261025T010000
END:STANDARD
END:VTIMEZONE
BEGIN:VEVENT
DTSTART;TZID=Europe/London:20250504T093000
DTEND;TZID=Europe/London:20250504T093000
DTSTAMP:20260420T220223
CREATED:20250417T122852Z
LAST-MODIFIED:20250420T113302Z
UID:4555-1746351000-1746351000@stmarybroomfield.org
SUMMARY:The Third Sunday of Easter - Said Eucharist
DESCRIPTION: (No Lego church today)
URL:https://stmarybroomfield.org/event/the-third-sunday-of-easter/
LOCATION:Essex
END:VEVENT
BEGIN:VEVENT
DTSTART;TZID=Europe/London:20250504T110000
DTEND;TZID=Europe/London:20250504T110000
DTSTAMP:20260420T220223
CREATED:20250417T123021Z
LAST-MODIFIED:20250420T113150Z
UID:4557-1746356400-1746356400@stmarybroomfield.org
SUMMARY:The Third Sunday of Easter - Village VE Commemoration Service
DESCRIPTION:Village VE Commemoration Service followed by refreshments in St. Leonard’s Hall
URL:https://stmarybroomfield.org/event/the-third-sunday-of-easter-2/
LOCATION:St Mary’s Church\, St Mary's Broomfield Parish Church\, Broomfield\, Essex\, CM1 7BD\, United Kingdom
END:VEVENT
BEGIN:VEVENT
DTSTART;TZID=Europe/London:20250504T173000
DTEND;TZID=Europe/London:20250504T173000
DTSTAMP:20260420T220223
CREATED:20250417T123119Z
LAST-MODIFIED:20250417T123702Z
UID:4559-1746379800-1746379800@stmarybroomfield.org
SUMMARY:The Third Sunday of Easter - Evening Prayer
DESCRIPTION:Evening Prayer
URL:https://stmarybroomfield.org/event/the-third-sunday-of-easter-3/
LOCATION:St Mary’s Church\, St Mary's Broomfield Parish Church\, Broomfield\, Essex\, CM1 7BD\, United Kingdom
END:VEVENT
END:VCALENDAR