BEGIN:VCALENDAR
VERSION:2.0
PRODID:-//St. Mary with St. Leonard - ECPv6.15.20//NONSGML v1.0//EN
CALSCALE:GREGORIAN
METHOD:PUBLISH
X-ORIGINAL-URL:https://stmarybroomfield.org
X-WR-CALDESC:Events for St. Mary with St. Leonard
REFRESH-INTERVAL;VALUE=DURATION:PT1H
X-Robots-Tag:noindex
X-PUBLISHED-TTL:PT1H
BEGIN:VTIMEZONE
TZID:Europe/London
BEGIN:DAYLIGHT
TZOFFSETFROM:+0000
TZOFFSETTO:+0100
TZNAME:BST
DTSTART:20240331T010000
END:DAYLIGHT
BEGIN:STANDARD
TZOFFSETFROM:+0100
TZOFFSETTO:+0000
TZNAME:GMT
DTSTART:20241027T010000
END:STANDARD
BEGIN:DAYLIGHT
TZOFFSETFROM:+0000
TZOFFSETTO:+0100
TZNAME:BST
DTSTART:20250330T010000
END:DAYLIGHT
BEGIN:STANDARD
TZOFFSETFROM:+0100
TZOFFSETTO:+0000
TZNAME:GMT
DTSTART:20251026T010000
END:STANDARD
BEGIN:DAYLIGHT
TZOFFSETFROM:+0000
TZOFFSETTO:+0100
TZNAME:BST
DTSTART:20260329T010000
END:DAYLIGHT
BEGIN:STANDARD
TZOFFSETFROM:+0100
TZOFFSETTO:+0000
TZNAME:GMT
DTSTART:20261025T010000
END:STANDARD
END:VTIMEZONE
BEGIN:VEVENT
DTSTART;TZID=Europe/London:20250514T103000
DTEND;TZID=Europe/London:20250514T103000
DTSTAMP:20260420T220219
CREATED:20250417T130445Z
LAST-MODIFIED:20250417T130445Z
UID:4596-1747218600-1747218600@stmarybroomfield.org
SUMMARY:Mid-week Eucharist in Church with Coffee Morning after in  St. Leonard’s Hall
DESCRIPTION:
URL:https://stmarybroomfield.org/event/mid-week-eucharist-in-church-with-coffee-morning-after-in-st-leonards-hall/
LOCATION:Essex
END:VEVENT
BEGIN:VEVENT
DTSTART;TZID=Europe/London:20250514T134500
DTEND;TZID=Europe/London:20250514T134500
DTSTAMP:20260420T220219
CREATED:20250418T195307Z
LAST-MODIFIED:20250418T195307Z
UID:4663-1747230300-1747230300@stmarybroomfield.org
SUMMARY:Baffled by the Bible
DESCRIPTION:
URL:https://stmarybroomfield.org/event/baffled-by-the-bible-91/
LOCATION:68 Longshots Broomfield
END:VEVENT
BEGIN:VEVENT
DTSTART;TZID=Europe/London:20250514T194500
DTEND;TZID=Europe/London:20250514T210000
DTSTAMP:20260420T220219
CREATED:20250417T130738Z
LAST-MODIFIED:20250417T130738Z
UID:4601-1747251900-1747256400@stmarybroomfield.org
SUMMARY:Bellringing practice
DESCRIPTION:
URL:https://stmarybroomfield.org/event/bellringing-practice-10/
LOCATION:St Mary’s Church\, St Mary's Broomfield Parish Church\, Broomfield\, Essex\, CM1 7BD\, United Kingdom
END:VEVENT
END:VCALENDAR