BEGIN:VCALENDAR
VERSION:2.0
PRODID:-//St. Mary with St. Leonard - ECPv6.15.20//NONSGML v1.0//EN
CALSCALE:GREGORIAN
METHOD:PUBLISH
X-ORIGINAL-URL:https://stmarybroomfield.org
X-WR-CALDESC:Events for St. Mary with St. Leonard
REFRESH-INTERVAL;VALUE=DURATION:PT1H
X-Robots-Tag:noindex
X-PUBLISHED-TTL:PT1H
BEGIN:VTIMEZONE
TZID:Europe/London
BEGIN:DAYLIGHT
TZOFFSETFROM:+0000
TZOFFSETTO:+0100
TZNAME:BST
DTSTART:20240331T010000
END:DAYLIGHT
BEGIN:STANDARD
TZOFFSETFROM:+0100
TZOFFSETTO:+0000
TZNAME:GMT
DTSTART:20241027T010000
END:STANDARD
BEGIN:DAYLIGHT
TZOFFSETFROM:+0000
TZOFFSETTO:+0100
TZNAME:BST
DTSTART:20250330T010000
END:DAYLIGHT
BEGIN:STANDARD
TZOFFSETFROM:+0100
TZOFFSETTO:+0000
TZNAME:GMT
DTSTART:20251026T010000
END:STANDARD
BEGIN:DAYLIGHT
TZOFFSETFROM:+0000
TZOFFSETTO:+0100
TZNAME:BST
DTSTART:20260329T010000
END:DAYLIGHT
BEGIN:STANDARD
TZOFFSETFROM:+0100
TZOFFSETTO:+0000
TZNAME:GMT
DTSTART:20261025T010000
END:STANDARD
END:VTIMEZONE
BEGIN:VEVENT
DTSTART;TZID=Europe/London:20250518T080000
DTEND;TZID=Europe/London:20250518T080000
DTSTAMP:20260420T220221
CREATED:20250419T082653Z
LAST-MODIFIED:20250419T082653Z
UID:4672-1747555200-1747555200@stmarybroomfield.org
SUMMARY:The Fifth Sunday of Easter - BCP Holy Communion
DESCRIPTION:
URL:https://stmarybroomfield.org/event/the-fifth-sunday-of-easter-bcp-holy-communion-2/
LOCATION:St Mary’s Church\, St Mary's Broomfield Parish Church\, Broomfield\, Essex\, CM1 7BD\, United Kingdom
END:VEVENT
BEGIN:VEVENT
DTSTART;TZID=Europe/London:20250518T093000
DTEND;TZID=Europe/London:20250518T093000
DTSTAMP:20260420T220221
CREATED:20250419T082653Z
LAST-MODIFIED:20250419T082653Z
UID:4673-1747560600-1747560600@stmarybroomfield.org
SUMMARY:The Fifth Sunday of Easter - Family Service
DESCRIPTION:Followed by refreshments in St. Leonard’s Hallx
URL:https://stmarybroomfield.org/event/the-fifth-sunday-of-easter-family-service-2/
LOCATION:St Mary’s Church\, St Mary's Broomfield Parish Church\, Broomfield\, Essex\, CM1 7BD\, United Kingdom
END:VEVENT
BEGIN:VEVENT
DTSTART;TZID=Europe/London:20250518T161500
DTEND;TZID=Europe/London:20250518T161500
DTSTAMP:20260420T220221
CREATED:20250419T082653Z
LAST-MODIFIED:20250514T080915Z
UID:4674-1747584900-1747584900@stmarybroomfield.org
SUMMARY:Visiting Bell Ringers @ 16.15
DESCRIPTION:Please note: Time shown in Round Tower magazine is incorrect
URL:https://stmarybroomfield.org/event/the-fifth-sunday-of-easter-bell-ringers-2/
LOCATION:St Mary’s Church\, St Mary's Broomfield Parish Church\, Broomfield\, Essex\, CM1 7BD\, United Kingdom
END:VEVENT
END:VCALENDAR