BEGIN:VCALENDAR
VERSION:2.0
PRODID:-//St. Mary with St. Leonard - ECPv6.15.20//NONSGML v1.0//EN
CALSCALE:GREGORIAN
METHOD:PUBLISH
X-WR-CALNAME:St. Mary with St. Leonard
X-ORIGINAL-URL:https://stmarybroomfield.org
X-WR-CALDESC:Events for St. Mary with St. Leonard
REFRESH-INTERVAL;VALUE=DURATION:PT1H
X-Robots-Tag:noindex
X-PUBLISHED-TTL:PT1H
BEGIN:VTIMEZONE
TZID:Europe/London
BEGIN:DAYLIGHT
TZOFFSETFROM:+0000
TZOFFSETTO:+0100
TZNAME:BST
DTSTART:20240331T010000
END:DAYLIGHT
BEGIN:STANDARD
TZOFFSETFROM:+0100
TZOFFSETTO:+0000
TZNAME:GMT
DTSTART:20241027T010000
END:STANDARD
BEGIN:DAYLIGHT
TZOFFSETFROM:+0000
TZOFFSETTO:+0100
TZNAME:BST
DTSTART:20250330T010000
END:DAYLIGHT
BEGIN:STANDARD
TZOFFSETFROM:+0100
TZOFFSETTO:+0000
TZNAME:GMT
DTSTART:20251026T010000
END:STANDARD
BEGIN:DAYLIGHT
TZOFFSETFROM:+0000
TZOFFSETTO:+0100
TZNAME:BST
DTSTART:20260329T010000
END:DAYLIGHT
BEGIN:STANDARD
TZOFFSETFROM:+0100
TZOFFSETTO:+0000
TZNAME:GMT
DTSTART:20261025T010000
END:STANDARD
END:VTIMEZONE
BEGIN:VEVENT
DTSTART;TZID=Europe/London:20250521T100000
DTEND;TZID=Europe/London:20250521T100000
DTSTAMP:20260421T012432
CREATED:20250419T090736Z
LAST-MODIFIED:20250419T090736Z
UID:4680-1747821600-1747821600@stmarybroomfield.org
SUMMARY:Bible Study Group
DESCRIPTION:
URL:https://stmarybroomfield.org/event/bible-study-group-3/
LOCATION:2a Hearsall Avenue\, CM1 7DD
END:VEVENT
BEGIN:VEVENT
DTSTART;TZID=Europe/London:20250521T134500
DTEND;TZID=Europe/London:20250521T134500
DTSTAMP:20260421T012432
CREATED:20250419T090849Z
LAST-MODIFIED:20250419T090849Z
UID:4681-1747835100-1747835100@stmarybroomfield.org
SUMMARY:Baffled by the Bible
DESCRIPTION:
URL:https://stmarybroomfield.org/event/baffled-by-the-bible-92/
LOCATION:68 Longshots Broomfield
END:VEVENT
BEGIN:VEVENT
DTSTART;TZID=Europe/London:20250521T194500
DTEND;TZID=Europe/London:20250521T194500
DTSTAMP:20260421T012432
CREATED:20250419T090849Z
LAST-MODIFIED:20250419T090849Z
UID:4682-1747856700-1747856700@stmarybroomfield.org
SUMMARY:Bellringing Practice
DESCRIPTION:
URL:https://stmarybroomfield.org/event/bellringing-practice-13/
LOCATION:Essex
END:VEVENT
END:VCALENDAR