BEGIN:VCALENDAR
VERSION:2.0
PRODID:-//St. Mary with St. Leonard - ECPv6.15.20//NONSGML v1.0//EN
CALSCALE:GREGORIAN
METHOD:PUBLISH
X-ORIGINAL-URL:https://stmarybroomfield.org
X-WR-CALDESC:Events for St. Mary with St. Leonard
REFRESH-INTERVAL;VALUE=DURATION:PT1H
X-Robots-Tag:noindex
X-PUBLISHED-TTL:PT1H
BEGIN:VTIMEZONE
TZID:Europe/London
BEGIN:DAYLIGHT
TZOFFSETFROM:+0000
TZOFFSETTO:+0100
TZNAME:BST
DTSTART:20240331T010000
END:DAYLIGHT
BEGIN:STANDARD
TZOFFSETFROM:+0100
TZOFFSETTO:+0000
TZNAME:GMT
DTSTART:20241027T010000
END:STANDARD
BEGIN:DAYLIGHT
TZOFFSETFROM:+0000
TZOFFSETTO:+0100
TZNAME:BST
DTSTART:20250330T010000
END:DAYLIGHT
BEGIN:STANDARD
TZOFFSETFROM:+0100
TZOFFSETTO:+0000
TZNAME:GMT
DTSTART:20251026T010000
END:STANDARD
BEGIN:DAYLIGHT
TZOFFSETFROM:+0000
TZOFFSETTO:+0100
TZNAME:BST
DTSTART:20260329T010000
END:DAYLIGHT
BEGIN:STANDARD
TZOFFSETFROM:+0100
TZOFFSETTO:+0000
TZNAME:GMT
DTSTART:20261025T010000
END:STANDARD
END:VTIMEZONE
BEGIN:VEVENT
DTSTART;TZID=Europe/London:20250522T100000
DTEND;TZID=Europe/London:20250522T100000
DTSTAMP:20260420T220223
CREATED:20250419T090849Z
LAST-MODIFIED:20250419T090849Z
UID:4683-1747908000-1747908000@stmarybroomfield.org
SUMMARY:Little Lambs in St Leonard's Hall
DESCRIPTION:
URL:https://stmarybroomfield.org/event/little-lambs-in-st-leonards-hall-4/
LOCATION:St Leonard’s Hall\, St Leonard's Hall\, Broomfield\, Essex\, CM1 7BD\, United Kingdom
END:VEVENT
BEGIN:VEVENT
DTSTART;TZID=Europe/London:20250522T130000
DTEND;TZID=Europe/London:20250522T130000
DTSTAMP:20260420T220223
CREATED:20250419T090849Z
LAST-MODIFIED:20250419T091440Z
UID:4684-1747918800-1747918800@stmarybroomfield.org
SUMMARY:Funeral of Diana Smith
DESCRIPTION:
URL:https://stmarybroomfield.org/event/funeral-of-diana-smith/
LOCATION:St Mary’s Church\, St Mary's Broomfield Parish Church\, Broomfield\, Essex\, CM1 7BD\, United Kingdom
END:VEVENT
BEGIN:VEVENT
DTSTART;TZID=Europe/London:20250522T140000
DTEND;TZID=Europe/London:20250522T140000
DTSTAMP:20260420T220223
CREATED:20250224T163316Z
LAST-MODIFIED:20250224T163316Z
UID:4365-1747922400-1747922400@stmarybroomfield.org
SUMMARY:Ladies Group
DESCRIPTION:Tony Stringer to give a presentation about the Namuncha School\, Kenya Charity
URL:https://stmarybroomfield.org/event/ladies-group-22/
LOCATION:St Leonard’s Hall\, St Leonard's Hall\, Broomfield\, Essex\, CM1 7BD\, United Kingdom
END:VEVENT
END:VCALENDAR