BEGIN:VCALENDAR
VERSION:2.0
PRODID:-//St. Mary with St. Leonard - ECPv6.15.20//NONSGML v1.0//EN
CALSCALE:GREGORIAN
METHOD:PUBLISH
X-ORIGINAL-URL:https://stmarybroomfield.org
X-WR-CALDESC:Events for St. Mary with St. Leonard
REFRESH-INTERVAL;VALUE=DURATION:PT1H
X-Robots-Tag:noindex
X-PUBLISHED-TTL:PT1H
BEGIN:VTIMEZONE
TZID:Europe/London
BEGIN:DAYLIGHT
TZOFFSETFROM:+0000
TZOFFSETTO:+0100
TZNAME:BST
DTSTART:20240331T010000
END:DAYLIGHT
BEGIN:STANDARD
TZOFFSETFROM:+0100
TZOFFSETTO:+0000
TZNAME:GMT
DTSTART:20241027T010000
END:STANDARD
BEGIN:DAYLIGHT
TZOFFSETFROM:+0000
TZOFFSETTO:+0100
TZNAME:BST
DTSTART:20250330T010000
END:DAYLIGHT
BEGIN:STANDARD
TZOFFSETFROM:+0100
TZOFFSETTO:+0000
TZNAME:GMT
DTSTART:20251026T010000
END:STANDARD
BEGIN:DAYLIGHT
TZOFFSETFROM:+0000
TZOFFSETTO:+0100
TZNAME:BST
DTSTART:20260329T010000
END:DAYLIGHT
BEGIN:STANDARD
TZOFFSETFROM:+0100
TZOFFSETTO:+0000
TZNAME:GMT
DTSTART:20261025T010000
END:STANDARD
END:VTIMEZONE
BEGIN:VEVENT
DTSTART;TZID=Europe/London:20250604T100000
DTEND;TZID=Europe/London:20250604T100000
DTSTAMP:20260420T220613
CREATED:20250526T130615Z
LAST-MODIFIED:20250526T131056Z
UID:4857-1749031200-1749031200@stmarybroomfield.org
SUMMARY:Bible Study Group
DESCRIPTION:
URL:https://stmarybroomfield.org/event/__trashed-14/
LOCATION:2a Hearsall Avenue\, CM1 7DD
END:VEVENT
BEGIN:VEVENT
DTSTART;TZID=Europe/London:20250604T134500
DTEND;TZID=Europe/London:20250604T134500
DTSTAMP:20260420T220613
CREATED:20250526T130616Z
LAST-MODIFIED:20250526T131056Z
UID:4858-1749044700-1749044700@stmarybroomfield.org
SUMMARY:Baffled by the Bible
DESCRIPTION:
URL:https://stmarybroomfield.org/event/__trashed-16/
LOCATION:68 Longshots Broomfield
END:VEVENT
BEGIN:VEVENT
DTSTART;TZID=Europe/London:20250604T194500
DTEND;TZID=Europe/London:20250604T194500
DTSTAMP:20260420T220613
CREATED:20250526T130616Z
LAST-MODIFIED:20250526T131056Z
UID:4859-1749066300-1749066300@stmarybroomfield.org
SUMMARY:Bellringing Practice at Little Waltham
DESCRIPTION:
URL:https://stmarybroomfield.org/event/__trashed-17/
LOCATION:St Martin’s Little Waltham\, Brook Hill\, Little Waltham\, CM3 3LJ
END:VEVENT
END:VCALENDAR