BEGIN:VCALENDAR
VERSION:2.0
PRODID:-//St. Mary with St. Leonard - ECPv6.15.20//NONSGML v1.0//EN
CALSCALE:GREGORIAN
METHOD:PUBLISH
X-WR-CALNAME:St. Mary with St. Leonard
X-ORIGINAL-URL:https://stmarybroomfield.org
X-WR-CALDESC:Events for St. Mary with St. Leonard
REFRESH-INTERVAL;VALUE=DURATION:PT1H
X-Robots-Tag:noindex
X-PUBLISHED-TTL:PT1H
BEGIN:VTIMEZONE
TZID:Europe/London
BEGIN:DAYLIGHT
TZOFFSETFROM:+0000
TZOFFSETTO:+0100
TZNAME:BST
DTSTART:20240331T010000
END:DAYLIGHT
BEGIN:STANDARD
TZOFFSETFROM:+0100
TZOFFSETTO:+0000
TZNAME:GMT
DTSTART:20241027T010000
END:STANDARD
BEGIN:DAYLIGHT
TZOFFSETFROM:+0000
TZOFFSETTO:+0100
TZNAME:BST
DTSTART:20250330T010000
END:DAYLIGHT
BEGIN:STANDARD
TZOFFSETFROM:+0100
TZOFFSETTO:+0000
TZNAME:GMT
DTSTART:20251026T010000
END:STANDARD
BEGIN:DAYLIGHT
TZOFFSETFROM:+0000
TZOFFSETTO:+0100
TZNAME:BST
DTSTART:20260329T010000
END:DAYLIGHT
BEGIN:STANDARD
TZOFFSETFROM:+0100
TZOFFSETTO:+0000
TZNAME:GMT
DTSTART:20261025T010000
END:STANDARD
END:VTIMEZONE
BEGIN:VEVENT
DTSTART;TZID=Europe/London:20250710T100000
DTEND;TZID=Europe/London:20250710T100000
DTSTAMP:20260420T184951
CREATED:20250615T072510Z
LAST-MODIFIED:20250615T072510Z
UID:5000-1752141600-1752141600@stmarybroomfield.org
SUMMARY:Thanksgiving on a Thursday
DESCRIPTION:(30 Minutes earlier than usual)
URL:https://stmarybroomfield.org/event/thanksgiving-on-a-thursday-73/
LOCATION:Essex
END:VEVENT
BEGIN:VEVENT
DTSTART;TZID=Europe/London:20250710T100000
DTEND;TZID=Europe/London:20250710T100000
DTSTAMP:20260420T184951
CREATED:20250615T072513Z
LAST-MODIFIED:20250615T072513Z
UID:5001-1752141600-1752141600@stmarybroomfield.org
SUMMARY:Little Lambs in St Leonard's Hall
DESCRIPTION:
URL:https://stmarybroomfield.org/event/little-lambs-in-st-leonards-hall-6/
LOCATION:St Leonard’s Hall\, St Leonard's Hall\, Broomfield\, Essex\, CM1 7BD\, United Kingdom
END:VEVENT
BEGIN:VEVENT
DTSTART;TZID=Europe/London:20250710T140000
DTEND;TZID=Europe/London:20250710T140000
DTSTAMP:20260420T184951
CREATED:20250615T072513Z
LAST-MODIFIED:20250615T072513Z
UID:5002-1752156000-1752156000@stmarybroomfield.org
SUMMARY:Friends of Broomfield Hospital - in St Leonard's Hall
DESCRIPTION:
URL:https://stmarybroomfield.org/event/friends-of-broomfield-hospital-in-st-leonards-hall/
LOCATION:St Leonard’s Hall\, St Leonard's Hall\, Broomfield\, Essex\, CM1 7BD\, United Kingdom
END:VEVENT
BEGIN:VEVENT
DTSTART;TZID=Europe/London:20250710T190000
DTEND;TZID=Europe/London:20250710T190000
DTSTAMP:20260420T184951
CREATED:20250615T072513Z
LAST-MODIFIED:20250615T072513Z
UID:5003-1752174000-1752174000@stmarybroomfield.org
SUMMARY:Brumfelda Meeting in St Leonard's Hall
DESCRIPTION:
URL:https://stmarybroomfield.org/event/brumfelda-meeting-in-st-leonards-hall-3/
LOCATION:St Leonard’s Hall\, St Leonard's Hall\, Broomfield\, Essex\, CM1 7BD\, United Kingdom
END:VEVENT
END:VCALENDAR