BEGIN:VCALENDAR
VERSION:2.0
PRODID:-//St. Mary with St. Leonard - ECPv6.15.20//NONSGML v1.0//EN
CALSCALE:GREGORIAN
METHOD:PUBLISH
X-WR-CALNAME:St. Mary with St. Leonard
X-ORIGINAL-URL:https://stmarybroomfield.org
X-WR-CALDESC:Events for St. Mary with St. Leonard
REFRESH-INTERVAL;VALUE=DURATION:PT1H
X-Robots-Tag:noindex
X-PUBLISHED-TTL:PT1H
BEGIN:VTIMEZONE
TZID:Europe/London
BEGIN:DAYLIGHT
TZOFFSETFROM:+0000
TZOFFSETTO:+0100
TZNAME:BST
DTSTART:20240331T010000
END:DAYLIGHT
BEGIN:STANDARD
TZOFFSETFROM:+0100
TZOFFSETTO:+0000
TZNAME:GMT
DTSTART:20241027T010000
END:STANDARD
BEGIN:DAYLIGHT
TZOFFSETFROM:+0000
TZOFFSETTO:+0100
TZNAME:BST
DTSTART:20250330T010000
END:DAYLIGHT
BEGIN:STANDARD
TZOFFSETFROM:+0100
TZOFFSETTO:+0000
TZNAME:GMT
DTSTART:20251026T010000
END:STANDARD
BEGIN:DAYLIGHT
TZOFFSETFROM:+0000
TZOFFSETTO:+0100
TZNAME:BST
DTSTART:20260329T010000
END:DAYLIGHT
BEGIN:STANDARD
TZOFFSETFROM:+0100
TZOFFSETTO:+0000
TZNAME:GMT
DTSTART:20261025T010000
END:STANDARD
END:VTIMEZONE
BEGIN:VEVENT
DTSTART;TZID=Europe/London:20250716T103000
DTEND;TZID=Europe/London:20250716T103000
DTSTAMP:20260420T184953
CREATED:20250615T072528Z
LAST-MODIFIED:20250615T072528Z
UID:5007-1752661800-1752661800@stmarybroomfield.org
SUMMARY:Mid-week Eucharist in Church with coffee
DESCRIPTION:
URL:https://stmarybroomfield.org/event/mid-week-eucharist-in-church-with-coffee/
LOCATION:St Mary’s Church\, St Mary's Broomfield Parish Church\, Broomfield\, Essex\, CM1 7BD\, United Kingdom
END:VEVENT
BEGIN:VEVENT
DTSTART;TZID=Europe/London:20250716T134500
DTEND;TZID=Europe/London:20250716T134500
DTSTAMP:20260420T184953
CREATED:20250615T072528Z
LAST-MODIFIED:20250615T072528Z
UID:5008-1752673500-1752673500@stmarybroomfield.org
SUMMARY:Baffled by the Bible
DESCRIPTION:
URL:https://stmarybroomfield.org/event/baffled-by-the-bible-97/
LOCATION:68 Longshots Broomfield
END:VEVENT
BEGIN:VEVENT
DTSTART;TZID=Europe/London:20250716T194500
DTEND;TZID=Europe/London:20250716T194500
DTSTAMP:20260420T184953
CREATED:20250615T072528Z
LAST-MODIFIED:20250715T083123Z
UID:5009-1752695100-1752695100@stmarybroomfield.org
SUMMARY:Bellringing  - Joining District Practice at Great Waltham
DESCRIPTION:
URL:https://stmarybroomfield.org/event/bellringing-practice-18/
LOCATION:Essex
END:VEVENT
END:VCALENDAR