BEGIN:VCALENDAR
VERSION:2.0
PRODID:-//St. Mary with St. Leonard - ECPv6.15.20//NONSGML v1.0//EN
CALSCALE:GREGORIAN
METHOD:PUBLISH
X-ORIGINAL-URL:https://stmarybroomfield.org
X-WR-CALDESC:Events for St. Mary with St. Leonard
REFRESH-INTERVAL;VALUE=DURATION:PT1H
X-Robots-Tag:noindex
X-PUBLISHED-TTL:PT1H
BEGIN:VTIMEZONE
TZID:Europe/London
BEGIN:DAYLIGHT
TZOFFSETFROM:+0000
TZOFFSETTO:+0100
TZNAME:BST
DTSTART:20240331T010000
END:DAYLIGHT
BEGIN:STANDARD
TZOFFSETFROM:+0100
TZOFFSETTO:+0000
TZNAME:GMT
DTSTART:20241027T010000
END:STANDARD
BEGIN:DAYLIGHT
TZOFFSETFROM:+0000
TZOFFSETTO:+0100
TZNAME:BST
DTSTART:20250330T010000
END:DAYLIGHT
BEGIN:STANDARD
TZOFFSETFROM:+0100
TZOFFSETTO:+0000
TZNAME:GMT
DTSTART:20251026T010000
END:STANDARD
BEGIN:DAYLIGHT
TZOFFSETFROM:+0000
TZOFFSETTO:+0100
TZNAME:BST
DTSTART:20260329T010000
END:DAYLIGHT
BEGIN:STANDARD
TZOFFSETFROM:+0100
TZOFFSETTO:+0000
TZNAME:GMT
DTSTART:20261025T010000
END:STANDARD
END:VTIMEZONE
BEGIN:VEVENT
DTSTART;TZID=Europe/London:20250723T100000
DTEND;TZID=Europe/London:20250723T100000
DTSTAMP:20260420T185018
CREATED:20250615T072558Z
LAST-MODIFIED:20250615T072558Z
UID:5016-1753264800-1753264800@stmarybroomfield.org
SUMMARY:Bible Study Group
DESCRIPTION:
URL:https://stmarybroomfield.org/event/bible-study-group-6/
LOCATION:2a Hearsall Avenue\, CM1 7DD
END:VEVENT
BEGIN:VEVENT
DTSTART;TZID=Europe/London:20250723T134500
DTEND;TZID=Europe/London:20250723T134500
DTSTAMP:20260420T185018
CREATED:20250615T072558Z
LAST-MODIFIED:20250615T072558Z
UID:5017-1753278300-1753278300@stmarybroomfield.org
SUMMARY:Baffled by the Bible
DESCRIPTION:
URL:https://stmarybroomfield.org/event/baffled-by-the-bible-98/
LOCATION:68 Longshots Broomfield
END:VEVENT
BEGIN:VEVENT
DTSTART;TZID=Europe/London:20250723T193000
DTEND;TZID=Europe/London:20250723T193000
DTSTAMP:20260420T185019
CREATED:20250615T072558Z
LAST-MODIFIED:20250615T072558Z
UID:5018-1753299000-1753299000@stmarybroomfield.org
SUMMARY:PCC Meeting In St Leonard's Hall
DESCRIPTION:
URL:https://stmarybroomfield.org/event/pcc-meeting-in-st-leonards-hall/
LOCATION:St Leonard’s Hall\, St Leonard's Hall\, Broomfield\, Essex\, CM1 7BD\, United Kingdom
END:VEVENT
BEGIN:VEVENT
DTSTART;TZID=Europe/London:20250723T194500
DTEND;TZID=Europe/London:20250723T194500
DTSTAMP:20260420T185019
CREATED:20250615T072558Z
LAST-MODIFIED:20250615T072558Z
UID:5019-1753299900-1753299900@stmarybroomfield.org
SUMMARY:Bellringing Practice
DESCRIPTION:
URL:https://stmarybroomfield.org/event/bellringing-practice-19/
LOCATION:St Mary’s Church\, St Mary's Broomfield Parish Church\, Broomfield\, Essex\, CM1 7BD\, United Kingdom
END:VEVENT
END:VCALENDAR