BEGIN:VCALENDAR
VERSION:2.0
PRODID:-//St. Mary with St. Leonard - ECPv6.15.20//NONSGML v1.0//EN
CALSCALE:GREGORIAN
METHOD:PUBLISH
X-WR-CALNAME:St. Mary with St. Leonard
X-ORIGINAL-URL:https://stmarybroomfield.org
X-WR-CALDESC:Events for St. Mary with St. Leonard
REFRESH-INTERVAL;VALUE=DURATION:PT1H
X-Robots-Tag:noindex
X-PUBLISHED-TTL:PT1H
BEGIN:VTIMEZONE
TZID:Europe/London
BEGIN:DAYLIGHT
TZOFFSETFROM:+0000
TZOFFSETTO:+0100
TZNAME:BST
DTSTART:20240331T010000
END:DAYLIGHT
BEGIN:STANDARD
TZOFFSETFROM:+0100
TZOFFSETTO:+0000
TZNAME:GMT
DTSTART:20241027T010000
END:STANDARD
BEGIN:DAYLIGHT
TZOFFSETFROM:+0000
TZOFFSETTO:+0100
TZNAME:BST
DTSTART:20250330T010000
END:DAYLIGHT
BEGIN:STANDARD
TZOFFSETFROM:+0100
TZOFFSETTO:+0000
TZNAME:GMT
DTSTART:20251026T010000
END:STANDARD
BEGIN:DAYLIGHT
TZOFFSETFROM:+0000
TZOFFSETTO:+0100
TZNAME:BST
DTSTART:20260329T010000
END:DAYLIGHT
BEGIN:STANDARD
TZOFFSETFROM:+0100
TZOFFSETTO:+0000
TZNAME:GMT
DTSTART:20261025T010000
END:STANDARD
END:VTIMEZONE
BEGIN:VEVENT
DTSTART;TZID=Europe/London:20250925T093000
DTEND;TZID=Europe/London:20250925T093000
DTSTAMP:20260420T185008
CREATED:20250815T091531Z
LAST-MODIFIED:20250815T091531Z
UID:5135-1758792600-1758792600@stmarybroomfield.org
SUMMARY:Thanksgiving on a Thursday in the Lady Chapel
DESCRIPTION:
URL:https://stmarybroomfield.org/event/thanksgiving-on-a-thursday-in-the-lady-chapel-8/
LOCATION:St Mary’s Church\, St Mary's Broomfield Parish Church\, Broomfield\, Essex\, CM1 7BD\, United Kingdom
END:VEVENT
BEGIN:VEVENT
DTSTART;TZID=Europe/London:20250925T100000
DTEND;TZID=Europe/London:20250925T100000
DTSTAMP:20260420T185008
CREATED:20250815T091531Z
LAST-MODIFIED:20250815T091531Z
UID:5136-1758794400-1758794400@stmarybroomfield.org
SUMMARY:Little Lambs in St Leonard's Hall
DESCRIPTION:
URL:https://stmarybroomfield.org/event/little-lambs-in-st-leonards-hall-11/
LOCATION:St Leonard’s Hall\, St Leonard's Hall\, Broomfield\, Essex\, CM1 7BD\, United Kingdom
END:VEVENT
BEGIN:VEVENT
DTSTART;TZID=Europe/London:20250925T113000
DTEND;TZID=Europe/London:20250925T113000
DTSTAMP:20260420T185008
CREATED:20250815T091546Z
LAST-MODIFIED:20250815T091546Z
UID:5137-1758799800-1758799800@stmarybroomfield.org
SUMMARY:Ladies Group Meeting - in the committee room
DESCRIPTION:
URL:https://stmarybroomfield.org/event/ladies-group-meeting-in-the-committee-room/
LOCATION:Essex
END:VEVENT
BEGIN:VEVENT
DTSTART;TZID=Europe/London:20250925T130000
DTEND;TZID=Europe/London:20250925T170000
DTSTAMP:20260420T185008
CREATED:20250224T163757Z
LAST-MODIFIED:20250224T163757Z
UID:4373-1758805200-1758819600@stmarybroomfield.org
SUMMARY:Ladies Group
DESCRIPTION:Harvest Lunch
URL:https://stmarybroomfield.org/event/ladies-group-26/
LOCATION:St Leonard’s Hall\, St Leonard's Hall\, Broomfield\, Essex\, CM1 7BD\, United Kingdom
END:VEVENT
END:VCALENDAR