BEGIN:VCALENDAR
VERSION:2.0
PRODID:-//St. Mary with St. Leonard - ECPv6.15.20//NONSGML v1.0//EN
CALSCALE:GREGORIAN
METHOD:PUBLISH
X-WR-CALNAME:St. Mary with St. Leonard
X-ORIGINAL-URL:https://stmarybroomfield.org
X-WR-CALDESC:Events for St. Mary with St. Leonard
REFRESH-INTERVAL;VALUE=DURATION:PT1H
X-Robots-Tag:noindex
X-PUBLISHED-TTL:PT1H
BEGIN:VTIMEZONE
TZID:Europe/London
BEGIN:DAYLIGHT
TZOFFSETFROM:+0000
TZOFFSETTO:+0100
TZNAME:BST
DTSTART:20250330T010000
END:DAYLIGHT
BEGIN:STANDARD
TZOFFSETFROM:+0100
TZOFFSETTO:+0000
TZNAME:GMT
DTSTART:20251026T010000
END:STANDARD
BEGIN:DAYLIGHT
TZOFFSETFROM:+0000
TZOFFSETTO:+0100
TZNAME:BST
DTSTART:20260329T010000
END:DAYLIGHT
BEGIN:STANDARD
TZOFFSETFROM:+0100
TZOFFSETTO:+0000
TZNAME:GMT
DTSTART:20261025T010000
END:STANDARD
BEGIN:DAYLIGHT
TZOFFSETFROM:+0000
TZOFFSETTO:+0100
TZNAME:BST
DTSTART:20270328T010000
END:DAYLIGHT
BEGIN:STANDARD
TZOFFSETFROM:+0100
TZOFFSETTO:+0000
TZNAME:GMT
DTSTART:20271031T010000
END:STANDARD
END:VTIMEZONE
BEGIN:VEVENT
DTSTART;TZID=Europe/London:20260227T093000
DTEND;TZID=Europe/London:20260227T093000
DTSTAMP:20260421T044035
CREATED:20260114T102029Z
LAST-MODIFIED:20260114T102029Z
UID:5489-1772184600-1772184600@stmarybroomfield.org
SUMMARY:Thanksgiving on a Friday om The Lady Chapel
DESCRIPTION:
URL:https://stmarybroomfield.org/event/thanksgiving-on-a-friday-om-the-lady-chapel-3/
LOCATION:St Mary’s Church\, St Mary's Broomfield Parish Church\, Broomfield\, Essex\, CM1 7BD\, United Kingdom
END:VEVENT
BEGIN:VEVENT
DTSTART;TZID=Europe/London:20260227T123000
DTEND;TZID=Europe/London:20260227T123000
DTSTAMP:20260421T044035
CREATED:20260114T102029Z
LAST-MODIFIED:20260114T162647Z
UID:5490-1772195400-1772195400@stmarybroomfield.org
SUMMARY:Wedding of Steven Ambrose and Sarah Massey in Church
DESCRIPTION:
URL:https://stmarybroomfield.org/event/wedding-of-steven-ambrose-and-sarah-massey-in-church/
LOCATION:St Mary’s Church\, St Mary's Broomfield Parish Church\, Broomfield\, Essex\, CM1 7BD\, United Kingdom
END:VEVENT
BEGIN:VEVENT
DTSTART;TZID=Europe/London:20260227T161500
DTEND;TZID=Europe/London:20260227T161500
DTSTAMP:20260421T044035
CREATED:20260114T102029Z
LAST-MODIFIED:20260114T102029Z
UID:5491-1772208900-1772208900@stmarybroomfield.org
SUMMARY:Choir Practice in St Leonard's Hall
DESCRIPTION:
URL:https://stmarybroomfield.org/event/choir-practice-in-st-leonards-hall-22/
LOCATION:St Leonard’s Hall\, St Leonard's Hall\, Broomfield\, Essex\, CM1 7BD\, United Kingdom
END:VEVENT
END:VCALENDAR