BEGIN:VCALENDAR
VERSION:2.0
PRODID:-//St. Mary with St. Leonard - ECPv6.15.20//NONSGML v1.0//EN
CALSCALE:GREGORIAN
METHOD:PUBLISH
X-ORIGINAL-URL:https://stmarybroomfield.org
X-WR-CALDESC:Events for St. Mary with St. Leonard
REFRESH-INTERVAL;VALUE=DURATION:PT1H
X-Robots-Tag:noindex
X-PUBLISHED-TTL:PT1H
BEGIN:VTIMEZONE
TZID:Europe/London
BEGIN:DAYLIGHT
TZOFFSETFROM:+0000
TZOFFSETTO:+0100
TZNAME:BST
DTSTART:20250330T010000
END:DAYLIGHT
BEGIN:STANDARD
TZOFFSETFROM:+0100
TZOFFSETTO:+0000
TZNAME:GMT
DTSTART:20251026T010000
END:STANDARD
BEGIN:DAYLIGHT
TZOFFSETFROM:+0000
TZOFFSETTO:+0100
TZNAME:BST
DTSTART:20260329T010000
END:DAYLIGHT
BEGIN:STANDARD
TZOFFSETFROM:+0100
TZOFFSETTO:+0000
TZNAME:GMT
DTSTART:20261025T010000
END:STANDARD
BEGIN:DAYLIGHT
TZOFFSETFROM:+0000
TZOFFSETTO:+0100
TZNAME:BST
DTSTART:20270328T010000
END:DAYLIGHT
BEGIN:STANDARD
TZOFFSETFROM:+0100
TZOFFSETTO:+0000
TZNAME:GMT
DTSTART:20271031T010000
END:STANDARD
END:VTIMEZONE
BEGIN:VEVENT
DTSTART;TZID=Europe/London:20260403T140000
DTEND;TZID=Europe/London:20260403T140000
DTSTAMP:20260421T062949
CREATED:20260213T162954Z
LAST-MODIFIED:20260213T162954Z
UID:5549-1775224800-1775224800@stmarybroomfield.org
SUMMARY:Good Friday - The Last Hour at the Cross
DESCRIPTION:
URL:https://stmarybroomfield.org/event/good-friday-the-last-hour-at-the-cross/
LOCATION:St Mary’s Church\, St Mary's Broomfield Parish Church\, Broomfield\, Essex\, CM1 7BD\, United Kingdom
END:VEVENT
BEGIN:VEVENT
DTSTART;TZID=Europe/London:20260403T150000
DTEND;TZID=Europe/London:20260403T150000
DTSTAMP:20260421T062949
CREATED:20260213T162954Z
LAST-MODIFIED:20260213T162954Z
UID:5550-1775228400-1775228400@stmarybroomfield.org
SUMMARY:Choir Practice in St Leonard's Hall
DESCRIPTION:
URL:https://stmarybroomfield.org/event/choir-practice-in-st-leonards-hall-27/
LOCATION:St Leonard’s Hall\, St Leonard's Hall\, Broomfield\, Essex\, CM1 7BD\, United Kingdom
END:VEVENT
END:VCALENDAR