BEGIN:VCALENDAR
VERSION:2.0
PRODID:-//St. Mary with St. Leonard - ECPv6.15.20//NONSGML v1.0//EN
CALSCALE:GREGORIAN
METHOD:PUBLISH
X-WR-CALNAME:St. Mary with St. Leonard
X-ORIGINAL-URL:https://stmarybroomfield.org
X-WR-CALDESC:Events for St. Mary with St. Leonard
REFRESH-INTERVAL;VALUE=DURATION:PT1H
X-Robots-Tag:noindex
X-PUBLISHED-TTL:PT1H
BEGIN:VTIMEZONE
TZID:Europe/London
BEGIN:DAYLIGHT
TZOFFSETFROM:+0000
TZOFFSETTO:+0100
TZNAME:BST
DTSTART:20250330T010000
END:DAYLIGHT
BEGIN:STANDARD
TZOFFSETFROM:+0100
TZOFFSETTO:+0000
TZNAME:GMT
DTSTART:20251026T010000
END:STANDARD
BEGIN:DAYLIGHT
TZOFFSETFROM:+0000
TZOFFSETTO:+0100
TZNAME:BST
DTSTART:20260329T010000
END:DAYLIGHT
BEGIN:STANDARD
TZOFFSETFROM:+0100
TZOFFSETTO:+0000
TZNAME:GMT
DTSTART:20261025T010000
END:STANDARD
BEGIN:DAYLIGHT
TZOFFSETFROM:+0000
TZOFFSETTO:+0100
TZNAME:BST
DTSTART:20270328T010000
END:DAYLIGHT
BEGIN:STANDARD
TZOFFSETFROM:+0100
TZOFFSETTO:+0000
TZNAME:GMT
DTSTART:20271031T010000
END:STANDARD
END:VTIMEZONE
BEGIN:VEVENT
DTSTART;TZID=Europe/London:20260422T100000
DTEND;TZID=Europe/London:20260422T100000
DTSTAMP:20260422T014606
CREATED:20260313T091449Z
LAST-MODIFIED:20260313T091449Z
UID:5595-1776852000-1776852000@stmarybroomfield.org
SUMMARY:Bible Study Group  - 2A Hearsall Avenue
DESCRIPTION:
URL:https://stmarybroomfield.org/event/bible-study-group-2a-hearsall-avenue-16/
LOCATION:2a Hearsall Avenue\, CM1 7DD
END:VEVENT
BEGIN:VEVENT
DTSTART;TZID=Europe/London:20260422T140000
DTEND;TZID=Europe/London:20260422T140000
DTSTAMP:20260422T014606
CREATED:20260313T091449Z
LAST-MODIFIED:20260313T091449Z
UID:5596-1776866400-1776866400@stmarybroomfield.org
SUMMARY:Ladies Group in St Leonard's Hall
DESCRIPTION:
URL:https://stmarybroomfield.org/event/ladies-group-in-st-leonards-hall-4/
LOCATION:St Leonard’s Hall\, St Leonard's Hall\, Broomfield\, Essex\, CM1 7BD\, United Kingdom
END:VEVENT
BEGIN:VEVENT
DTSTART;TZID=Europe/London:20260422T194500
DTEND;TZID=Europe/London:20260422T194500
DTSTAMP:20260422T014606
CREATED:20260313T091503Z
LAST-MODIFIED:20260313T091503Z
UID:5597-1776887100-1776887100@stmarybroomfield.org
SUMMARY:Bellringing Practice
DESCRIPTION:
URL:https://stmarybroomfield.org/event/bellringing-practice-52/
LOCATION:St Mary’s Church\, St Mary's Broomfield Parish Church\, Broomfield\, Essex\, CM1 7BD\, United Kingdom
END:VEVENT
END:VCALENDAR